BEGIN:VCALENDAR
VERSION:2.0
PRODID:-//https://www.gommern.de///NONSGML kigkonsult.se iCalcreator 2.10.15//
METHOD:PUBLISH
BEGIN:VEVENT
UID:20260424T170217CEST-3395IeHkav@https://www.gommern.de/
DTSTAMP:20260424T150217Z
DESCRIPTION:Wandern rund um GommernBildervortrag mit Autorin Britta Schulze
 -ThulinBeginnt 17:30 Uhr in der StadtbibliothekEintritt: 5\,00 €siehe auch
  Datei-Anlage https://www.gommern.de/de/einheitsgemeinde-gommern/kultur-to
 urismus/veranstaltungskalender/event/1290-bildervortrag-in-der-gommeraner-
 bibliothek.html
DTSTART;VALUE=DATE:20260422
LOCATION:Stadtbibliothek Gommern\, Manheimerstr. 8 ()
SUMMARY:Bildervortrag in der Gommeraner Bibliothek
URL:https://www.gommern.de/de/einheitsgemeinde-gommern/kultur-tourismus/ver
 anstaltungskalender/event/1290-bildervortrag-in-der-gommeraner-bibliothek.
 html
END:VEVENT
END:VCALENDAR
