BEGIN:VCALENDAR
VERSION:2.0
PRODID:-//https://www.gommern.de///NONSGML kigkonsult.se iCalcreator 2.10.15//
METHOD:PUBLISH
BEGIN:VEVENT
UID:20260421T195010CEST-9405Vu993C@https://www.gommern.de/
DTSTAMP:20260421T175010Z
DESCRIPTION:Vernissage und Akkordeon-Konzert mit Maxim Shagaev in der Nedli
 tzer Kirche. Beginnt um 19:00 Uhr. https://www.gommern.de/de/component/rse
 ventspro/event/1286-vernissage-und-konzert-in-der-nedlitzer-kirche.html
DTSTART;VALUE=DATE:20260626
LOCATION:St. Nikolauskirche Nedlitz (Kirchplatz 1\, 39291 Gommern\, Deutsch
 land)
SUMMARY:Vernissage und Konzert in der Nedlitzer Kirche
URL:https://www.gommern.de/de/component/rseventspro/event/1286-vernissage-u
 nd-konzert-in-der-nedlitzer-kirche.html
END:VEVENT
END:VCALENDAR
