BEGIN:VCALENDAR
VERSION:2.0
PRODID:-//https://www.gommern.de///NONSGML kigkonsult.se iCalcreator 2.10.15//
METHOD:PUBLISH
BEGIN:VEVENT
UID:20260421T225213CEST-7327p0XuCZ@https://www.gommern.de/
DTSTAMP:20260421T205213Z
DESCRIPTION: https://www.gommern.de/de/component/rseventspro/event/1279-fam
 iliensportfest-in-wahlitz.html
DTSTART;VALUE=DATE:20260628
LOCATION:Wahlitz\, Sportplatz Gerstenberg ()
SUMMARY:Familiensportfest in Wahlitz
URL:https://www.gommern.de/de/component/rseventspro/event/1279-familienspor
 tfest-in-wahlitz.html
END:VEVENT
END:VCALENDAR
