BEGIN:VCALENDAR
VERSION:2.0
PRODID:-//https://www.gommern.de///NONSGML kigkonsult.se iCalcreator 2.10.15//
METHOD:PUBLISH
BEGIN:VEVENT
UID:20260424T112628CEST-1409w9NKA7@https://www.gommern.de/
DTSTAMP:20260424T092628Z
DESCRIPTION:'Am Tor zur Ewigkeit'mit Marita Schröder aus GüterglückBeginnt 
 16:30 Uhr.Der Eintritt ist frei. Es wird um eine Spende gebeten.\nDornburg
 er Sommermusiken 2026 monatlich von Mai bis Oktober. https://www.gommern.d
 e/de/component/rseventspro/event/1261-dornburger-sommermusik.html
DTSTART;VALUE=DATE:20260711
LOCATION:Kirche St. Christophorus Dornburg ()
SUMMARY:Dornburger Sommermusik
URL:https://www.gommern.de/de/component/rseventspro/event/1261-dornburger-s
 ommermusik.html
END:VEVENT
END:VCALENDAR
