BEGIN:VCALENDAR
VERSION:2.0
PRODID:-//https://www.gommern.de///NONSGML kigkonsult.se iCalcreator 2.10.15//
METHOD:PUBLISH
BEGIN:VEVENT
UID:20260422T082557CEST-2850tTO9nT@https://www.gommern.de/
DTSTAMP:20260422T062557Z
DESCRIPTION:Jubiläumsveranstaltung des Dornburger Angelvereins beginnt um 1
 4:00 Uhr. https://www.gommern.de/de/component/rseventspro/event/1260-60-ja
 hre-dornburger-angelverein.html
DTSTART;VALUE=DATE:20260704
LOCATION:Dornburg\, Parkplatz am Dornburger See ()
SUMMARY:60 Jahre Dornburger Angelverein
URL:https://www.gommern.de/de/component/rseventspro/event/1260-60-jahre-dor
 nburger-angelverein.html
END:VEVENT
END:VCALENDAR
