BEGIN:VCALENDAR
VERSION:2.0
PRODID:-//https://www.gommern.de///NONSGML kigkonsult.se iCalcreator 2.10.15//
METHOD:PUBLISH
BEGIN:VEVENT
UID:20260421T212041CEST-92577LgLtp@https://www.gommern.de/
DTSTAMP:20260421T192041Z
DESCRIPTION:ab 15:00 Uhr https://www.gommern.de/de/component/rseventspro/ev
 ent/1183-kinder-und-familienfest-in-vehlitz.html
DTSTART;VALUE=DATE:20260627
LOCATION:Festwiese am Ehleweg\, Vehlitz (Ehleweg 4\, 39291 Gommern\, Deutsc
 hland)
SUMMARY:Kinder- und Familienfest in Vehlitz
URL:https://www.gommern.de/de/component/rseventspro/event/1183-kinder-und-f
 amilienfest-in-vehlitz.html
END:VEVENT
END:VCALENDAR
