BEGIN:VCALENDAR
VERSION:2.0
PRODID:-//https://www.gommern.de///NONSGML kigkonsult.se iCalcreator 2.10.15//
METHOD:PUBLISH
BEGIN:VEVENT
UID:20260421T214903CEST-3219blrVLm@https://www.gommern.de/
DTSTAMP:20260421T194903Z
DESCRIPTION:Dorffest Prödel vom 26. Juni bis 28. JuniDer Programmablauf fol
 gt zu einem späteren Zeitpunkt. https://www.gommern.de/de/component/rseven
 tspro/event/1151-dorffest-in-proedel.html
DTSTART;VALUE=DATE:20260627
LOCATION:an der Feuerwehr und auf dem Spielplatz in Prödel ()
SUMMARY:Dorffest in Prödel
URL:https://www.gommern.de/de/component/rseventspro/event/1151-dorffest-in-
 proedel.html
END:VEVENT
END:VCALENDAR
